BEGIN:VCALENDAR
VERSION:2.0
PRODID:-//jEvents 2.0 for Joomla//EN
CALSCALE:GREGORIAN
METHOD:PUBLISH
BEGIN:VEVENT
UID:95c17f3159e513bf817fec7762edc957
CATEGORIES:Lịch làm việc
SUMMARY:Lịch làm việc tuần 02 của lãnh đạo Liên đoàn cập nhật lần 2
DESCRIPTION;ENCODING=QUOTED-PRINTABLE:TRUNG TÂM QUY HOẠCH VÀ ĐIỀU TRA TÀI NGUYÊN NƯỚC QUỐC GIA\n  LIÊN ĐOÀN QUY H
 OẠCH VÀ ĐIỀU TRA TÀI NGUYÊN NƯỚC MIỀN BẮC\n  CHƯƠNG TRÌNH CÔNG TÁC CỦA LÃNH
  ĐẠO LIÊN ĐOÀN\n  Tuần thứ 02 (từ ngày 12/01 đến ngày 18/01/2026)\n        
     Ngày tháng\n      Chủ trì\n      Nội dung - Địa điểm - Thành phần\n    
        Thứ hai\n  12/01\n      Lãnh đạo Liên đoàn\n      - Sáng: Làm việc t
 ại cơ quan.\n  - 15h00’: Dự Hội nghị công bố Quyết định quy định chức năng,
  nhiệm vụ, quyền hạn và cơ cấu tổ chức của Trung tâm QH&ĐTTNNQG và trao Quy
 ết định bổ nhiệm Lãnh đạo Trung tâm, tại Hội trường tầng 5\n  - 15h45’: Dự 
 họp Báo cáo Thứ trưởng Nguyễn Hoàng Hiệp tại buổi làm việc của Thứ trưởng v
 ới Trung tâm, tại Hội trường tầng 5\n           Thứ ba\n  13/01\n      Lãnh
  đạo Liên đoàn\n      Làm việc tại cơ quan.\n           Thứ tư\n  14/01\n  
     Liên đoàn trưởng\n  Nguyễn Chí Nghĩa\n      - 9h30’: Tiếp đại diện Kwat
 er tại Việt nam tại phòng họp 802. A Thành, A Tùng và C Thanh cùng dự.\n  -
  14h00’: Họp với Công ty nước sạch Hà Nội và Hội VWSA tại trụ sở 44 Yên Phụ
 . A Thành, A Tùng và C Thanh cùng dự\n          Phó Liên đoàn trưởng\n  Luy
 ện Đức Thuận\n      Làm việc tại cơ quan\n           Thứ năm\n  15/01\n    
   Lãnh đạo Liên đoàn\n      Làm việc tại cơ quan.\n           Thứ sáu\n  16
 /01\n      Liên đoàn trưởng\n  Nguyễn Chí Nghĩa\n      - 08h00’: Tham dự Hộ
 i nghị khoa học “Quản lý Môi trường và Phát triển tài nguyên thiên nhiên” (
 Emnr 2026) và Lễ kỷ niệm 15 năm thành lập Khoa Môi trường, tại Hội trường 3
 00, Khu A, Trường Đại học Mỏ - Địa chất. A. Thành Chánh Văn phòng cùng dự.\
 n          Phó Liên đoàn trưởng\n  Luyện Đức Thuận\n      Làm việc tại cơ q
 uan\n          
DTSTAMP:20260423T100924Z
DTSTART;TZID=Asia/Ho_Chi_Minh:20260114T080000
DTEND;TZID=Asia/Ho_Chi_Minh:20260114T170000
SEQUENCE:0
TRANSP:OPAQUE
END:VEVENT
END:VCALENDAR