BEGIN:VCALENDAR
VERSION:2.0
PRODID:-//jEvents 2.0 for Joomla//EN
CALSCALE:GREGORIAN
METHOD:PUBLISH
BEGIN:VEVENT
UID:2f81c1a91fb1589ffc9162e3627327d7
CATEGORIES:Lịch làm việc
SUMMARY:Lịch làm việc tuần 09 của lãnh đạo Liên đoàn cập nhật lần 3
DESCRIPTION;ENCODING=QUOTED-PRINTABLE:<p style="margin-bottom: 0.0001pt; text-align: center; line-height: normal;
 " align="center"><span style="font-size: 13pt; font-family: 'Times New Roma
 n', serif; color: black;">TRUNG TÂM QUY HOẠCH VÀ ĐIỀU TRA TÀI NGUYÊN NƯỚC Q
 UỐC GIA</span></p>  <p style="margin-bottom: 0.0001pt; text-align: center; 
 line-height: normal;" align="center"><strong><span style="font-size: 13pt; 
 font-family: 'Times New Roman', serif; color: black;">LIÊN ĐOÀN QUY HOẠCH V
 À ĐIỀU TRA TÀI NGUYÊN NƯỚC MIỀN BẮC</span></strong></p>  <p style="margin: 
 18pt 0cm 12pt; text-align: center; line-height: normal;" align="center"><st
 rong><span style="font-size: 13pt; font-family: 'Times New Roman', serif;">
 CHƯƠNG TRÌNH CÔNG TÁC CỦA LÃNH ĐẠO LIÊN ĐOÀN</span></strong></p>  <p style=
 "margin: 6pt 0cm 12pt; text-align: center; line-height: normal;" align="cen
 ter"><strong><em><span style="font-size: 13pt; font-family: 'Times New Roma
 n', serif; color: black;">Tuần thứ 09 </span></em></strong><strong><em><spa
 n style="font-size: 13pt; font-family: 'Times New Roman', serif;">(từ ngày 
 02/03 đến ngày 06/03/2026)</span></em></strong></p>  <div align="center">  
 <table style="width: 699px; border-collapse: collapse;" border="0" cellspac
 ing="0" cellpadding="0">  <tbody>  <tr style="height: 7.2pt;">  <td style="
 width: 92pt; border: 1pt solid windowtext; padding: 0cm 5.4pt; height: 7.2p
 t;" width="123">  <p style="margin: 6pt 18pt 6pt 25.2pt; text-align: justif
 y; line-height: normal;"><strong><em><span style="font-size: 13pt; font-fam
 ily: 'Times New Roman', serif; color: black;">Ngày tháng</span></em></stron
 g></p>  </td>  <td style="width: 155.95pt; border-width: 1pt 1pt 1pt medium
 ; border-style: solid solid solid none; border-color: windowtext windowtext
  windowtext currentcolor; padding: 0cm 5.4pt; height: 7.2pt;" width="208"> 
  <p style="margin: 6pt 18pt 6pt 25.2pt; text-align: center; line-height: no
 rmal;" align="center"><strong><em><span style="font-size: 13pt; font-family
 : 'Times New Roman', serif; color: black;">Chủ trì</span></em></strong></p>
   </td>  <td style="width: 276.4pt; border-width: 1pt 1pt 1pt medium; borde
 r-style: solid solid solid none; border-color: windowtext windowtext window
 text currentcolor; padding: 0cm 5.4pt; height: 7.2pt;" width="369">  <p sty
 le="margin: 6pt 18pt 6pt 25.2pt; text-align: center; line-height: normal;" 
 align="center"><strong><em><span style="font-size: 13pt; font-family: 'Time
 s New Roman', serif; color: black;">Nội dung - Địa điểm - Thành phần</span>
 </em></strong></p>  </td>  </tr>  <tr style="height: 7.2pt;">  <td style="w
 idth: 92pt; border-width: medium 1pt 1pt; border-style: none solid solid; b
 order-color: currentcolor windowtext windowtext; padding: 0cm; height: 7.2p
 t;" width="123">  <p style="text-align: center;" align="center"><em><span s
 tyle="font-size: 13pt; line-height: 107%; font-family: 'Times New Roman', s
 erif;">Thứ hai</span></em></p>  <p style="text-align: center;" align="cente
 r"><em><span style="font-size: 13pt; line-height: 107%; font-family: 'Times
  New Roman', serif;">02/03</span></em></p>  </td>  <td style="width: 155.95
 pt; border-width: medium 1pt 1pt medium; border-style: none solid solid non
 e; border-color: currentcolor windowtext windowtext currentcolor; padding: 
 0cm 5.4pt; height: 7.2pt;" width="208">  <p style="margin: 6pt 8.85pt; text
 -align: center; line-height: normal;" align="center"><span style="font-size
 : 13pt; font-family: 'Times New Roman', serif; color: black;">Lãnh đạo Liên
  đoàn</span></p>  </td>  <td style="width: 276.4pt; border-width: medium 1p
 t 1pt medium; border-style: none solid solid none; border-color: currentcol
 or windowtext windowtext currentcolor; padding: 0cm; height: 7.2pt;" width=
 "369">  <p style="margin: 6pt 2.85pt 6pt 0cm; text-align: justify; line-hei
 ght: normal;"><span style="font-size: 13pt; font-family: 'Times New Roman',
  serif;"> Làm việc tại cơ quan.</span></p>  </td>  </tr>  <tr style="height
 : 46.8pt;">  <td style="width: 92pt; border-width: medium 1pt; border-style
 : none solid; border-color: currentcolor windowtext; padding: 0cm; height: 
 46.8pt;" width="123">  <p style="text-align: center;" align="center"><em><s
 pan style="font-size: 13pt; line-height: 107%; font-family: 'Times New Roma
 n', serif;">Thứ ba</span></em></p>  <p style="text-align: center;" align="c
 enter"><em><span style="font-size: 13pt; line-height: 107%; font-family: 'T
 imes New Roman', serif;">03/3</span></em></p>  </td>  <td style="width: 155
 .95pt; border-width: medium 1pt medium medium; border-style: none solid non
 e none; border-color: currentcolor windowtext currentcolor currentcolor; pa
 dding: 0cm 5.4pt; height: 46.8pt;" width="208">  <p style="margin: 6pt 8.85
 pt; text-align: center; line-height: normal;" align="center"><span style="f
 ont-size: 13pt; font-family: 'Times New Roman', serif; color: black;">Lãnh 
 đạo Liên đoàn</span></p>  </td>  <td style="width: 276.4pt; border-width: m
 edium 1pt medium medium; border-style: none solid none none; border-color: 
 currentcolor windowtext currentcolor currentcolor; padding: 0cm; height: 46
 .8pt;" width="369">  <p style="margin: 6pt 2.85pt; text-align: justify; lin
 e-height: normal;"><span style="font-size: 13pt; font-family: 'Times New Ro
 man', serif;">Làm việc tại cơ quan</span></p>  </td>  </tr>  <tr style="hei
 ght: 27pt;">  <td style="width: 92pt; border: 1pt solid windowtext; padding
 : 0cm; height: 27pt;" rowspan="2" width="123">  <p style="text-align: cente
 r;" align="center"><em><span style="font-size: 13pt; line-height: 107%; fon
 t-family: 'Times New Roman', serif;">Thứ tư</span></em></p>  <p style="text
 -align: center;" align="center"><em><span style="font-size: 13pt; line-heig
 ht: 107%;">04/03</span></em></p>  </td>  <td style="width: 155.95pt; border
 -width: 1pt 1pt 1pt medium; border-style: solid solid solid none; border-co
 lor: windowtext windowtext windowtext currentcolor; padding: 0cm 5.4pt; hei
 ght: 27pt;" rowspan="2" width="208">  <p style="margin: 6pt 8.85pt; text-al
 ign: center; line-height: normal;" align="center"><span style="font-size: 1
 3pt; font-family: 'Times New Roman', serif; color: black;">Lãnh đạo Liên đo
 àn</span></p>  </td>  <td style="width: 276.4pt; border-width: 1pt 1pt 1pt 
 medium; border-style: solid solid solid none; border-color: windowtext wind
 owtext windowtext currentcolor; padding: 0cm; height: 27pt;" width="369">  
 <p style="margin: 6pt 2.85pt; text-align: justify; line-height: normal;"><s
 pan style="font-size: 13pt; font-family: 'Times New Roman', serif;">- <em>S
 áng: </em>Làm việc tại cơ quan</span></p>  </td>  </tr>  <tr style="height:
  23pt;">  <td style="width: 276.4pt; border-width: medium 1pt 1pt medium; b
 order-style: none solid solid none; border-color: currentcolor windowtext w
 indowtext currentcolor; padding: 0cm; height: 23pt;" width="369">  <p style
 ="margin: 6pt 2.85pt; text-align: justify; line-height: normal;"><em><span 
 style="font-size: 13pt; font-family: 'Times New Roman', serif;">- 16h00’:</
 span></em><span style="font-size: 13pt; font-family: 'Times New Roman', ser
 if;"> Dự Hội nghị công bố các Quyết định bổ nhiệm Lãnh đạo Văn phòng, các B
 an và lãnh đạo Trung tâm Cảnh báo và Dự báo tài nguyên nước, tại Phòng họp 
 tầng 5.</span></p>  </td>  </tr>  <tr style="height: 55.95pt;">  <td style=
 "width: 92pt; border-width: medium 1pt; border-style: none solid; border-co
 lor: currentcolor windowtext; padding: 0cm; height: 55.95pt;" width="123"> 
  <p style="text-align: center;" align="center"><em><span style="font-size: 
 13pt; line-height: 107%; font-family: 'Times New Roman', serif;">Thứ năm</s
 pan></em></p>  <p style="text-align: center;" align="center"><em><span styl
 e="font-size: 13pt; line-height: 107%; font-family: 'Times New Roman', seri
 f;">05/03</span></em></p>  </td>  <td style="width: 155.95pt; border-width:
  medium 1pt medium medium; border-style: none solid none none; border-color
 : currentcolor windowtext currentcolor currentcolor; padding: 0cm 5.4pt; he
 ight: 55.95pt;" width="208">  <p style="margin: 6pt 8.85pt; text-align: cen
 ter; line-height: normal;" align="center"><span style="font-size: 13pt; fon
 t-family: 'Times New Roman', serif; color: black;">Lãnh đạo Liên đoàn</span
 ></p>  </td>  <td style="width: 276.4pt; border-width: medium 1pt medium me
 dium; border-style: none solid none none; border-color: currentcolor window
 text currentcolor currentcolor; padding: 0cm; height: 55.95pt;" width="369"
 >  <p style="margin: 6pt 2.85pt; text-align: justify; line-height: normal;"
 ><em><span style="font-size: 13pt; font-family: 'Times New Roman', serif;">
 - 09h00’:</span></em><span style="font-size: 13pt; font-family: 'Times New 
 Roman', serif;"> Dự Hội nghị công bố Quyết định bổ nhiệm Lãnh đạo Liên đoàn
  Quy hoạch và Điều tra tài nguyên nước miền Bắc, tại Phòng 802</span></p>  
 <p style="margin: 6pt 2.85pt; text-align: justify; line-height: normal;"><e
 m><span style="font-size: 13pt; font-family: 'Times New Roman', serif;">Thà
 nh phần: Các trưởng phó phòng, Đoàn.</span></em></p>  <p style="margin: 6pt
  2.85pt 6pt 0cm; text-align: justify; line-height: normal;"><span style="fo
 nt-size: 13pt; font-family: 'Times New Roman', serif;"> - Chiều: Làm việc t
 ại cơ quan</span></p>  </td>  </tr>  <tr style="height: 7.2pt;">  <td style
 ="width: 92pt; border: 1pt solid windowtext; padding: 0cm; height: 7.2pt;" 
 width="123">  <p style="text-align: center;" align="center"><em><span style
 ="font-size: 13pt; line-height: 107%; font-family: 'Times New Roman', serif
 ;">Thứ sáu</span></em></p>  <p style="text-align: center;" align="center"><
 em><span style="font-size: 13pt; line-height: 107%; font-family: 'Times New
  Roman', serif;">06/03</span></em></p>  </td>  <td style="width: 155.95pt; 
 border-width: 1pt 1pt 1pt medium; border-style: solid solid solid none; bor
 der-color: windowtext windowtext windowtext currentcolor; padding: 0cm 5.4p
 t; height: 7.2pt; text-align: center;" width="208"><span style="font-size: 
 13pt; font-family: 'Times New Roman', serif; color: black;">Lãnh đạo Liên đ
 oàn</span></td>  <td style="width: 276.4pt; border-width: 1pt 1pt 1pt mediu
 m; border-style: solid solid solid none; border-color: windowtext windowtex
 t windowtext currentcolor; padding: 0cm; height: 7.2pt;" width="369">  <p s
 tyle="margin: 6pt 2.85pt; text-align: justify; line-height: normal;"><em><s
 pan style="font-size: 13pt; font-family: 'Times New Roman', serif; color: r
 ed;">- 9h00’( Hoãn ) chuyển sang 10h:</span></em><span style="font-size: 13
 pt; font-family: 'Times New Roman', serif;">Họp BCH ĐU tại phòng 802</span>
 </p>  <p style="margin: 6pt 2.85pt; text-align: justify; line-height: norma
 l;"><span style="font-size: 13pt; font-family: 'Times New Roman', serif;"> 
 <strong><em>Thành phần: Lãnh đạo Liên đoàn và Ban chấp hành ĐULĐ</em></stro
 ng></span></p>  <p style="margin: 6pt 2.85pt; text-align: justify; line-hei
 ght: normal;"><em><span style="font-size: 13pt; font-family: 'Times New Rom
 an', serif;">Văn phòng chuẩn bị</span></em></p>  <p style="margin: 6pt 2.85
 pt; text-align: justify; line-height: normal;"><span style="font-size: 13pt
 ; font-family: 'Times New Roman', serif;">- Chiều: <em>Làm việc tại cơ quan
 </em></span></p>  </td>  </tr>  <tr style="height: 7.2pt;">  <td style="wid
 th: 92pt; border-width: medium 1pt 1pt; border-style: none solid solid; bor
 der-color: currentcolor windowtext windowtext; padding: 0cm; height: 7.2pt;
 " width="123">  <p style="text-align: center;" align="center"><em><span sty
 le="font-size: 13pt; line-height: 107%; font-family: 'Times New Roman', ser
 if;">Thứ bảy</span></em></p>  <p style="text-align: center;" align="center"
 ><em><span style="font-size: 13pt; line-height: 107%; font-family: 'Times N
 ew Roman', serif;">07/03</span></em></p>  </td>  <td style="width: 155.95pt
 ; border-width: medium 1pt 1pt medium; border-style: none solid solid none;
  border-color: currentcolor windowtext windowtext currentcolor; padding: 0c
 m 5.4pt; height: 7.2pt;" width="208"> </td>  <td style="width: 276.4pt; bor
 der-width: medium 1pt 1pt medium; border-style: none solid solid none; bord
 er-color: currentcolor windowtext windowtext currentcolor; padding: 0cm; he
 ight: 7.2pt;" width="369"> </td>  </tr>  </tbody>  </table>  </div>
DTSTAMP:20260422T082947Z
DTSTART;TZID=Asia/Ho_Chi_Minh:20260306T080000
DTEND;TZID=Asia/Ho_Chi_Minh:20260306T170000
SEQUENCE:0
TRANSP:OPAQUE
END:VEVENT
END:VCALENDAR