BEGIN:VCALENDAR
VERSION:2.0
PRODID:-//jEvents 2.0 for Joomla//EN
CALSCALE:GREGORIAN
METHOD:PUBLISH
BEGIN:VEVENT
UID:f91c261ef408c4d58edd0cad63ec6080
CATEGORIES:Lịch làm việc
SUMMARY:Lịch làm việc tuần 10 của Lãnh đạo Liên đoàn
DESCRIPTION;ENCODING=QUOTED-PRINTABLE:TRUNG TÂM QUY HOẠCH VÀ ĐIỀU TRA TÀI NGUYÊN NƯỚC QUỐC GIA\n  LIÊN ĐOÀN QUY H
 OẠCH VÀ ĐIỀU TRA TÀI NGUYÊN NƯỚC MIỀN BẮC\n  CHƯƠNG TRÌNH CÔNG TÁC CỦA LÃNH
  ĐẠO LIÊN ĐOÀN\n  Tuần thứ 10 (từ ngày 09/3 đến ngày 13/3/2026)\n          
   Ngày tháng\n      Chủ trì\n      Nội dung - Địa điểm - Thành phần\n      
     Thứ hai\n  09/3\n      Lãnh đạo Liên đoàn\n      - 8h30’: Ban Lãnh đạo 
 Liên đoàn nghe Văn phòng báo cáo về phân công nhiệm vụ cho các viên chức và
  người lao động Văn phòng; chỉ tiêu sản phẩm tháng 3 của các nhóm nhiệm vụ 
 và của Văn phòng, tại phòng 802.\n  Quản lý Văn phòng chuẩn bị, báo cáo. Cá
 c viên chức và người lao động Văn phòng cùng chuẩn bị, dự.\n  - Chiều: Làm 
 việc tại cơ quan\n          Thứ ba\n  10/3\n      Lãnh đạo Liên đoàn\n     
  - 8h30’: Nghe các Tổ dự án hoàn thiện Đề cương mở mới năm 2025 báo cáo kết
  quả thực hiện và tiến độ trình, tại phòng 802\n  A Tùng, Anh Phúc chuẩn bị
 , báo cáo. Các thành viên thực hiện chuẩn bị, dự. Văn phòng phối hợp\n  - C
 hiều: Làm việc tại cơ quan\n          Thứ tư\n  11/3\n      Lãnh đạo Liên đ
 oàn\n      Làm việc tại cơ quan\n          Thứ năm\n  12/3\n      Lãnh đạo 
 Liên đoàn\n      Làm việc tại cơ quan\n          Thứ sáu\n  13/3\n      Lãn
 h đạo Liên đoàn\n      Làm việc tại cơ quan\n          
DTSTAMP:20260425T060459Z
DTSTART;TZID=Asia/Ho_Chi_Minh:20260308T080000
DTEND;TZID=Asia/Ho_Chi_Minh:20260308T170000
SEQUENCE:0
TRANSP:OPAQUE
END:VEVENT
END:VCALENDAR