BEGIN:VCALENDAR
VERSION:2.0
PRODID:-//jEvents 2.0 for Joomla//EN
CALSCALE:GREGORIAN
METHOD:PUBLISH
BEGIN:VEVENT
UID:6450a7e4ab7c9e5e63b75a3895b78298
CATEGORIES:Lịch làm việc
SUMMARY:Lịch tuần 16 của lãnh đạo Liên đoàn cập nhật lần 1
DESCRIPTION;ENCODING=QUOTED-PRINTABLE:<p style="margin: 0cm 0cm 0.0001pt -1cm; text-align: center; line-height: n
 ormal;" align="center"><span style="font-size: 14pt; font-family: 'Times Ne
 w Roman', serif; color: black;">TRUNG TÂM QUY HOẠCH VÀ ĐIỀU TRA TÀI NGUYÊN 
 NƯỚC QUỐC GIA</span></p>  <p style="margin: 0cm 0cm 0.0001pt -1cm; text-ali
 gn: center; line-height: normal;" align="center"><strong><span style="font-
 size: 14pt; font-family: 'Times New Roman', serif; color: black;">LIÊN ĐOÀN
  QUY HOẠCH VÀ ĐIỀU TRA TÀI NGUYÊN NƯỚC MIỀN BẮC</span></strong></p>  <p sty
 le="margin: 6pt 0cm; text-align: center; line-height: normal;" align="cente
 r"><strong><span style="font-size: 14pt; font-family: 'Times New Roman', se
 rif; color: black;">CHƯƠNG TRÌNH CÔNG TÁC CỦA LÃNH ĐẠO LIÊN ĐOÀN</span></st
 rong></p>  <p style="margin: 6pt 0cm 6pt 3cm; text-align: center; line-heig
 ht: normal;" align="center"><strong><em><span style="font-size: 14pt; font-
 family: 'Times New Roman', serif; color: black;">Tuần thứ 16 (từ ngày 20/4 
 đến ngày 24/4/2026)</span></em></strong></p>  <div align="center">  <table 
 style="width: 781px; border-collapse: collapse; border: none; height: 987px
 ;" border="1" cellspacing="0" cellpadding="0">  <tbody>  <tr style="height:
  7.2pt;">  <td style="width: 92.3pt; border: 1pt solid windowtext; padding:
  0cm 5.4pt; height: 7.2pt;" width="154">  <p style="margin: 12pt 24pt; text
 -align: center; line-height: normal;" align="center"><strong><em><span styl
 e="font-size: 14pt; font-family: 'Times New Roman', serif; color: black;">N
 gày tháng</span></em></strong></p>  </td>  <td style="width: 152pt; border-
 top: 1pt solid windowtext; border-right: 1pt solid windowtext; border-botto
 m: 1pt solid windowtext; border-left: none; padding: 0cm 5.4pt; height: 7.2
 pt;" width="253">  <p style="margin: 12pt 24pt; text-align: center; line-he
 ight: normal;" align="center"><strong><em><span style="font-size: 14pt; fon
 t-family: 'Times New Roman', serif; color: black;">Chủ trì</span></em></str
 ong></p>  </td>  <td style="width: 244.25pt; border-top: 1pt solid windowte
 xt; border-right: 1pt solid windowtext; border-bottom: 1pt solid windowtext
 ; border-left: none; padding: 0cm 5.4pt; height: 7.2pt;" width="407">  <p s
 tyle="margin: 12pt 37.2pt; text-align: center; line-height: normal;" align=
 "center"><strong><em><span style="font-size: 14pt; font-family: 'Times New 
 Roman', serif; color: black;">Nội dung - Địa điểm - Thành phần</span></em><
 /strong></p>  </td>  </tr>  <tr style="height: 7.2pt;">  <td style="width: 
 92.3pt; border-right: 1pt solid windowtext; border-bottom: 1pt solid window
 text; border-left: 1pt solid windowtext; border-top: none; padding: 0cm; he
 ight: 7.2pt;" rowspan="2" width="154">  <p style="margin: 6pt 8.85pt; text-
 align: center; line-height: normal;" align="center"><em><span style="font-s
 ize: 14pt; font-family: 'Times New Roman', serif; color: black;">Thứ hai</s
 pan></em></p>  <p style="margin: 6pt 8.85pt; text-align: center; line-heigh
 t: normal;" align="center"><em><span style="font-size: 14pt; font-family: '
 Times New Roman', serif; color: black;">20/4</span></em></p>  </td>  <td st
 yle="width: 152pt; border-top: none; border-left: none; border-bottom: 1pt 
 solid windowtext; border-right: 1pt solid windowtext; padding: 0cm 5.4pt; h
 eight: 7.2pt;" width="253">  <p style="margin: 6pt 8.85pt; text-align: cent
 er; line-height: normal;" align="center"><span style="font-size: 14pt; font
 -family: 'Times New Roman', serif; color: black;">Liên đoàn trưởng</span></
 p>  <p style="margin: 6pt 8.85pt; text-align: center; line-height: normal;"
  align="center"><span style="font-size: 14pt; font-family: 'Times New Roman
 ', serif; color: black;">Nguyễn Chí Nghĩa</span></p>  </td>  <td style="wid
 th: 244.25pt; border-top: none; border-left: none; border-bottom: 1pt solid
  windowtext; border-right: 1pt solid windowtext; padding: 0cm; height: 7.2p
 t;" width="407">  <p style="margin: 6pt 2.85pt; text-align: justify; line-h
 eight: normal;"><span style="font-size: 14pt; font-family: 'Times New Roman
 ', serif; color: black;">Đi công tác Philipine tham dự cuộc họp Hội đồng nư
 ớc Châu Á đến hết sáng ngày thứ 5.</span></p>  </td>  </tr>  <tr style="hei
 ght: 7.2pt;">  <td style="width: 152pt; border-top: none; border-left: none
 ; border-bottom: 1pt solid windowtext; border-right: 1pt solid windowtext; 
 padding: 0cm 5.4pt; height: 7.2pt;" width="253">  <p style="margin: 6pt 2.8
 5pt; text-align: center; line-height: normal;" align="center"><span style="
 font-size: 14pt; font-family: 'Times New Roman', serif; color: black;">Phó 
 Liên đoàn trưởng</span></p>  <p style="margin: 6pt 2.85pt; text-align: cent
 er; line-height: normal;" align="center"><span style="font-size: 14pt; font
 -family: 'Times New Roman', serif; color: black;">Hoàng Văn Hoan</span></p>
   <p style="margin: 6pt 8.85pt; text-align: center; line-height: normal;" a
 lign="center"><span style="font-size: 14pt; font-family: 'Times New Roman',
  serif; color: black;">Phó Liên đoàn trưởng</span></p>  <p style="margin: 6
 pt 11.65pt; text-align: center; line-height: normal;" align="center"><span 
 style="font-size: 14pt; font-family: 'Times New Roman', serif; color: black
 ;">Luyện Đức Thuận</span></p>  </td>  <td style="width: 244.25pt; border-to
 p: none; border-left: none; border-bottom: 1pt solid windowtext; border-rig
 ht: 1pt solid windowtext; padding: 0cm; height: 7.2pt;" width="407">  <p st
 yle="margin: 0cm 2.85pt 8pt; text-align: justify; line-height: normal;"><sp
 an style="font-size: 14pt; font-family: 'Times New Roman', serif; color: bl
 ack;">Làm việc tại cơ quan</span></p>  </td>  </tr>  <tr style="height: 7.2
 pt;">  <td style="width: 92.3pt; border-right: 1pt solid windowtext; border
 -bottom: 1pt solid windowtext; border-left: 1pt solid windowtext; border-to
 p: none; padding: 0cm; height: 7.2pt;" width="154">  <p style="margin: 6pt 
 2.85pt; text-align: center; line-height: normal;" align="center"><em><span 
 style="font-size: 14pt; font-family: 'Times New Roman', serif; color: black
 ;">Thứ ba</span></em></p>  <p style="margin: 6pt 2.85pt; text-align: center
 ; line-height: normal;" align="center"><em><span style="font-size: 14pt; fo
 nt-family: 'Times New Roman', serif; color: black;">21/4</span></em></p>  <
 /td>  <td style="width: 152pt; border-top: none; border-left: none; border-
 bottom: 1pt solid windowtext; border-right: 1pt solid windowtext; padding: 
 0cm 5.4pt; height: 7.2pt;" width="253">  <p style="margin: 6pt 2.85pt; text
 -align: center; line-height: normal;" align="center"><span style="font-size
 : 14pt; font-family: 'Times New Roman', serif; color: black;">Phó Liên đoàn
  trưởng</span></p>  <p style="margin: 6pt 2.85pt; text-align: center; line-
 height: normal;" align="center"><span style="font-size: 14pt; font-family: 
 'Times New Roman', serif; color: black;">Hoàng Văn Hoan</span></p>  <p styl
 e="margin: 6pt 2.85pt; text-align: center; line-height: normal;" align="cen
 ter"><span style="font-size: 14pt; font-family: 'Times New Roman', serif; c
 olor: black;">Phó Liên đoàn trưởng</span></p>  <p style="margin: 6pt 2.85pt
 ; text-align: center; line-height: normal;" align="center"><span style="fon
 t-size: 14pt; font-family: 'Times New Roman', serif; color: black;">Luyện Đ
 ức Thuận</span></p>  </td>  <td style="width: 244.25pt; border-top: none; b
 order-left: none; border-bottom: 1pt solid windowtext; border-right: 1pt so
 lid windowtext; padding: 0cm; height: 7.2pt;" width="407">  <p style="margi
 n: 6pt 2.85pt; text-align: justify; line-height: normal;"><span style="font
 -size: 14pt; font-family: 'Times New Roman', serif; color: black;">Làm việc
  tại cơ quan</span></p>  </td>  </tr>  <tr style="height: 7.2pt;">  <td sty
 le="width: 92.3pt; border-right: 1pt solid windowtext; border-bottom: 1pt s
 olid windowtext; border-left: 1pt solid windowtext; border-top: none; paddi
 ng: 0cm; height: 7.2pt;" rowspan="2" width="154">  <p style="margin: 6pt 8.
 85pt; text-align: center; line-height: normal;" align="center"><em><span st
 yle="font-size: 14pt; font-family: 'Times New Roman', serif; color: black;"
 >Thứ tư</span></em></p>  <p style="margin: 6pt 8.85pt; text-align: center; 
 line-height: normal;" align="center"><em><span style="font-size: 14pt; font
 -family: 'Times New Roman', serif; color: black;">22/4</span></em></p>  </t
 d>  <td style="width: 152pt; border-top: none; border-left: none; border-bo
 ttom: 1pt solid windowtext; border-right: 1pt solid windowtext; padding: 0c
 m 5.4pt; height: 7.2pt;" width="253">  <p style="margin: 6pt 2.85pt; text-a
 lign: center; line-height: normal;" align="center"><span style="font-size: 
 14pt; font-family: 'Times New Roman', serif; color: black;">Phó Liên đoàn t
 rưởng</span></p>  <p style="margin: 6pt 2.85pt; text-align: center; line-he
 ight: normal;" align="center"><span style="font-size: 14pt; font-family: 'T
 imes New Roman', serif; color: black;">Hoàng Văn Hoan</span></p>  </td>  <t
 d style="width: 244.25pt; border-top: none; border-left: none; border-botto
 m: 1pt solid windowtext; border-right: 1pt solid windowtext; padding: 0cm; 
 height: 7.2pt;" width="407">  <p style="margin: 6pt 2.85pt; text-align: jus
 tify; line-height: normal;"><em><span style="font-size: 14pt; font-family: 
 'Times New Roman', serif; color: red;">- 8h30’</span></em><span style="font
 -size: 14pt; font-family: 'Times New Roman', serif; color: black;">: Nghe b
 áo cáo tình hình rà soát, hoàn thiện Đề cuowng nhiệm vụ mở mới: “ Điều tra,
  đánh giá trữ lượng, chất lượng nước dưới đất tỷ lệ 1: 100.000 tại các lưu 
 vực sông: Hồng- Thái Bình, Vu Gia- Thu Bồn, ven biển Nam Trung Bộ, Đồng Nai
 , Cửu Long, tại phòng 802</span></p>  <p style="margin: 6pt 2.85pt; text-al
 ign: justify; line-height: normal;"><strong><em><span style="font-size: 14p
 t; font-family: 'Times New Roman', serif; color: black;">A Thông Văn phòng 
 cùng dự, Anh Phúc phụ trách phòng Quy hoạch và nhóm hoàn thiện Đề cương chu
 ẩn bị.</span></em></strong></p>  <p style="margin: 6pt 2.85pt; text-align: 
 justify; line-height: normal;"><em><span style="font-size: 14pt; font-famil
 y: 'Times New Roman', serif; color: black;">- Chiều</span></em><span style=
 "font-size: 14pt; font-family: 'Times New Roman', serif; color: black;">: L
 àm việc tại cơ quan</span></p>  </td>  </tr>  <tr style="height: 7.2pt;">  
 <td style="width: 152pt; border-top: none; border-left: none; border-bottom
 : 1pt solid windowtext; border-right: 1pt solid windowtext; padding: 0cm 5.
 4pt; height: 7.2pt;" width="253">  <p style="margin: 6pt 2.85pt; text-align
 : center; line-height: normal;" align="center"><span style="font-size: 14pt
 ; font-family: 'Times New Roman', serif; color: black;">Phó Liên đoàn trưởn
 g</span></p>  <p style="margin: 6pt 2.85pt; text-align: center; line-height
 : normal;" align="center"><span style="font-size: 14pt; font-family: 'Times
  New Roman', serif; color: black;">Luyện Đức Thuận</span></p>  </td>  <td s
 tyle="width: 244.25pt; border-top: none; border-left: none; border-bottom: 
 1pt solid windowtext; border-right: 1pt solid windowtext; padding: 0cm; hei
 ght: 7.2pt;" width="407">  <p style="margin: 6pt 2.85pt; text-align: justif
 y; line-height: normal;"><span style="font-size: 14pt; font-family: 'Times 
 New Roman', serif; color: black;">Làm việc tại cơ quan</span></p>  </td>  <
 /tr>  <tr style="height: 7.2pt;">  <td style="width: 92.3pt; border-right: 
 1pt solid windowtext; border-bottom: 1pt solid windowtext; border-left: 1pt
  solid windowtext; border-top: none; padding: 0cm; height: 7.2pt;" rowspan=
 "2" width="154">  <p style="margin: 6pt 8.85pt; text-align: center; line-he
 ight: normal;" align="center"><em><span style="font-size: 14pt; font-family
 : 'Times New Roman', serif; color: black;">Thứ năm</span></em></p>  <p styl
 e="margin: 6pt 8.85pt; text-align: center; line-height: normal;" align="cen
 ter"><em><span style="font-size: 14pt; font-family: 'Times New Roman', seri
 f; color: black;">23/4</span></em></p>  </td>  <td style="width: 152pt; bor
 der-top: none; border-left: none; border-bottom: 1pt solid windowtext; bord
 er-right: 1pt solid windowtext; padding: 0cm 5.4pt; height: 7.2pt;" width="
 253">  <p style="margin: 6pt 8.85pt; text-align: center; line-height: norma
 l;" align="center"><span style="font-size: 14pt; font-family: 'Times New Ro
 man', serif; color: black;">Liên đoàn trưởng</span></p>  <p style="margin: 
 6pt 8.85pt; text-align: center; line-height: normal;" align="center"><span 
 style="font-size: 14pt; font-family: 'Times New Roman', serif; color: black
 ;">Nguyễn Chí Nghĩa</span></p>  </td>  <td style="width: 244.25pt; border-t
 op: none; border-left: none; border-bottom: 1pt solid windowtext; border-ri
 ght: 1pt solid windowtext; padding: 0cm; height: 7.2pt;" width="407">  <p s
 tyle="margin: 6pt 2.85pt; text-align: justify; line-height: normal;"><span 
 style="font-size: 14pt; font-family: 'Times New Roman', serif; color: black
 ;"> <em>-Chiều</em>: Làm việc tại cơ quan</span></p>  </td>  </tr>  <tr sty
 le="height: 7.2pt;">  <td style="width: 152pt; border-top: none; border-lef
 t: none; border-bottom: 1pt solid windowtext; border-right: 1pt solid windo
 wtext; padding: 0cm 5.4pt; height: 7.2pt;" width="253">  <p style="margin: 
 6pt 2.85pt; text-align: center; line-height: normal;" align="center"><span 
 style="font-size: 14pt; font-family: 'Times New Roman', serif; color: black
 ;">Phó Liên đoàn trưởng</span></p>  <p style="margin: 6pt 2.85pt; text-alig
 n: center; line-height: normal;" align="center"><span style="font-size: 14p
 t; font-family: 'Times New Roman', serif; color: black;">Hoàng Văn Hoan</sp
 an></p>  <p style="margin: 6pt 2.85pt; text-align: center; line-height: nor
 mal;" align="center"><span style="font-size: 14pt; font-family: 'Times New 
 Roman', serif; color: black;">Phó Liên đoàn trưởng</span></p>  <p style="ma
 rgin: 6pt 2.85pt; text-align: center; line-height: normal;" align="center">
 <span style="font-size: 14pt; font-family: 'Times New Roman', serif; color:
  black;">Luyện Đức Thuận</span></p>  </td>  <td style="width: 244.25pt; bor
 der-top: none; border-left: none; border-bottom: 1pt solid windowtext; bord
 er-right: 1pt solid windowtext; padding: 0cm; height: 7.2pt;" width="407"> 
  <p style="margin: 6pt 2.85pt; text-align: justify; line-height: normal;"><
 span style="font-size: 14pt; font-family: 'Times New Roman', serif; color: 
 black;">Làm việc tại cơ quan</span></p>  </td>  </tr>  <tr style="height: 7
 .2pt;">  <td style="width: 92.3pt; border-right: 1pt solid windowtext; bord
 er-bottom: 1pt solid windowtext; border-left: 1pt solid windowtext; border-
 top: none; padding: 0cm; height: 7.2pt;" width="154">  <p style="margin: 6p
 t 8.85pt; text-align: center; line-height: normal;" align="center"><em><spa
 n style="font-size: 14pt; font-family: 'Times New Roman', serif; color: bla
 ck;">Thứ sáu</span></em></p>  <p style="margin: 6pt 8.85pt; text-align: cen
 ter; line-height: normal;" align="center"><em><span style="font-size: 14pt;
  font-family: 'Times New Roman', serif; color: black;">24/4</span></em></p>
   </td>  <td style="width: 152pt; border-top: none; border-left: none; bord
 er-bottom: 1pt solid windowtext; border-right: 1pt solid windowtext; paddin
 g: 0cm 5.4pt; height: 7.2pt;" width="253">  <p style="margin: 6pt 11.65pt; 
 text-align: center; line-height: normal;" align="center"><span style="font-
 size: 14pt; font-family: 'Times New Roman', serif; color: black;">Lãnh đạo 
 Liên đoàn</span></p>  </td>  <td style="width: 244.25pt; border-top: none; 
 border-left: none; border-bottom: 1pt solid windowtext; border-right: 1pt s
 olid windowtext; padding: 0cm; height: 7.2pt;" width="407">  <p style="marg
 in: 6pt 2.85pt; text-align: justify; line-height: normal;"><span style="fon
 t-size: 14pt; font-family: 'Times New Roman', serif; color: black;">Làm việ
 c tại cơ quan</span></p>  </td>  </tr>  </tbody>  </table>  </div>
DTSTAMP:20260421T050151Z
DTSTART;TZID=Asia/Ho_Chi_Minh:20260420T080000
DTEND;TZID=Asia/Ho_Chi_Minh:20260420T170000
SEQUENCE:0
TRANSP:OPAQUE
END:VEVENT
END:VCALENDAR